BEGIN:VCALENDAR
VERSION:2.0
PRODID:-//Wanganui Harriers - ECPv6.15.20//NONSGML v1.0//EN
CALSCALE:GREGORIAN
METHOD:PUBLISH
X-ORIGINAL-URL:https://wanganuiharrierclub.co.nz
X-WR-CALDESC:Events for Wanganui Harriers
REFRESH-INTERVAL;VALUE=DURATION:PT1H
X-Robots-Tag:noindex
X-PUBLISHED-TTL:PT1H
BEGIN:VTIMEZONE
TZID:Pacific/Auckland
BEGIN:STANDARD
TZOFFSETFROM:+1300
TZOFFSETTO:+1200
TZNAME:NZST
DTSTART:20210403T140000
END:STANDARD
BEGIN:DAYLIGHT
TZOFFSETFROM:+1200
TZOFFSETTO:+1300
TZNAME:NZDT
DTSTART:20210925T140000
END:DAYLIGHT
BEGIN:STANDARD
TZOFFSETFROM:+1300
TZOFFSETTO:+1200
TZNAME:NZST
DTSTART:20220402T140000
END:STANDARD
BEGIN:DAYLIGHT
TZOFFSETFROM:+1200
TZOFFSETTO:+1300
TZNAME:NZDT
DTSTART:20220924T140000
END:DAYLIGHT
BEGIN:STANDARD
TZOFFSETFROM:+1300
TZOFFSETTO:+1200
TZNAME:NZST
DTSTART:20230401T140000
END:STANDARD
BEGIN:DAYLIGHT
TZOFFSETFROM:+1200
TZOFFSETTO:+1300
TZNAME:NZDT
DTSTART:20230923T140000
END:DAYLIGHT
END:VTIMEZONE
BEGIN:VEVENT
DTSTART;TZID=Pacific/Auckland:20220827T120000
DTEND;TZID=Pacific/Auckland:20220827T160000
DTSTAMP:20260421T015346
CREATED:20180411T232631Z
LAST-MODIFIED:20220406T203651Z
UID:452-1661601600-1661616000@wanganuiharrierclub.co.nz
SUMMARY:Jollie Joyce Jorum
DESCRIPTION:Points Day \nStarting from Wanganui East Club\, Wakefield Street\n12:00pm Walkers\n1:00pm Runners \n10 mile (16km) race consisting of 4km laps – you can run as many or as few as you like\, but only those who complete the full 16km distance will be eligible for points. \nJunior Relay 4k lap. Children’s Races 1k/2k \nAfternoon tea and presentations at Clubrooms
URL:https://wanganuiharrierclub.co.nz/event/jollie-joyce-jorum/
LOCATION:Wanganui East Club\, 101 Wakefield Street\, Whanganui\, 4500\, New Zealand
CATEGORIES:Club Event
END:VEVENT
END:VCALENDAR