BEGIN:VCALENDAR
VERSION:2.0
PRODID:-//Wanganui Harriers - ECPv6.15.20//NONSGML v1.0//EN
CALSCALE:GREGORIAN
METHOD:PUBLISH
X-WR-CALNAME:Wanganui Harriers
X-ORIGINAL-URL:https://wanganuiharrierclub.co.nz
X-WR-CALDESC:Events for Wanganui Harriers
REFRESH-INTERVAL;VALUE=DURATION:PT1H
X-Robots-Tag:noindex
X-PUBLISHED-TTL:PT1H
BEGIN:VTIMEZONE
TZID:Pacific/Auckland
BEGIN:STANDARD
TZOFFSETFROM:+1300
TZOFFSETTO:+1200
TZNAME:NZST
DTSTART:20230401T140000
END:STANDARD
BEGIN:DAYLIGHT
TZOFFSETFROM:+1200
TZOFFSETTO:+1300
TZNAME:NZDT
DTSTART:20230923T140000
END:DAYLIGHT
BEGIN:STANDARD
TZOFFSETFROM:+1300
TZOFFSETTO:+1200
TZNAME:NZST
DTSTART:20240406T140000
END:STANDARD
BEGIN:DAYLIGHT
TZOFFSETFROM:+1200
TZOFFSETTO:+1300
TZNAME:NZDT
DTSTART:20240928T140000
END:DAYLIGHT
BEGIN:STANDARD
TZOFFSETFROM:+1300
TZOFFSETTO:+1200
TZNAME:NZST
DTSTART:20250405T140000
END:STANDARD
BEGIN:DAYLIGHT
TZOFFSETFROM:+1200
TZOFFSETTO:+1300
TZNAME:NZDT
DTSTART:20250927T140000
END:DAYLIGHT
END:VTIMEZONE
BEGIN:VEVENT
DTSTART;TZID=Pacific/Auckland:20240720T133000
DTEND;TZID=Pacific/Auckland:20240720T153000
DTSTAMP:20260423T070408
CREATED:20180406T005159Z
LAST-MODIFIED:20240523T023348Z
UID:417-1721482200-1721489400@wanganuiharrierclub.co.nz
SUMMARY:Club & AMW Centre XC Champs
DESCRIPTION:Lundon Park\, Castlecliff.  In-conjunction with our Club XC Champs we will host the Centre XC Champs\, 1.30pm start \nSM 10k Couch Cup\nSW 8k Kemp Rosebowl\nVM 10k Hopper Cup\nVW 5k Francis Wilson Trophy\nM20 8k Carde Cup\nM18 6k Greig Cup\nW20 WHC Trophy \nW18 4k WHC Trophy\nB16 4k Deerness Trophy\nB14 3k Robinson Trophy\nG16 3k Walton Cup\nG14 3k Harrison Cup\nU12 2k Kemp Trophy\nU9 1k Hopper Medallions\nWalkers 4k/8k Green Trophies \nPoints Day \nAfternoon tea and Presentation at Castlecliff School.
URL:https://wanganuiharrierclub.co.nz/event/club-xc-champs/
CATEGORIES:Club Event
END:VEVENT
END:VCALENDAR