BEGIN:VCALENDAR
VERSION:2.0
PRODID:-//Wanganui Harriers - ECPv6.15.20//NONSGML v1.0//EN
CALSCALE:GREGORIAN
METHOD:PUBLISH
X-ORIGINAL-URL:https://wanganuiharrierclub.co.nz
X-WR-CALDESC:Events for Wanganui Harriers
REFRESH-INTERVAL;VALUE=DURATION:PT1H
X-Robots-Tag:noindex
X-PUBLISHED-TTL:PT1H
BEGIN:VTIMEZONE
TZID:Europe/London
BEGIN:DAYLIGHT
TZOFFSETFROM:+0000
TZOFFSETTO:+0100
TZNAME:BST
DTSTART:20230326T010000
END:DAYLIGHT
BEGIN:STANDARD
TZOFFSETFROM:+0100
TZOFFSETTO:+0000
TZNAME:GMT
DTSTART:20231029T010000
END:STANDARD
BEGIN:DAYLIGHT
TZOFFSETFROM:+0000
TZOFFSETTO:+0100
TZNAME:BST
DTSTART:20240331T010000
END:DAYLIGHT
BEGIN:STANDARD
TZOFFSETFROM:+0100
TZOFFSETTO:+0000
TZNAME:GMT
DTSTART:20241027T010000
END:STANDARD
BEGIN:DAYLIGHT
TZOFFSETFROM:+0000
TZOFFSETTO:+0100
TZNAME:BST
DTSTART:20250330T010000
END:DAYLIGHT
BEGIN:STANDARD
TZOFFSETFROM:+0100
TZOFFSETTO:+0000
TZNAME:GMT
DTSTART:20251026T010000
END:STANDARD
END:VTIMEZONE
BEGIN:VEVENT
DTSTART;TZID=Europe/London:20240504T133000
DTEND;TZID=Europe/London:20240504T153000
DTSTAMP:20260423T113222
CREATED:20240502T101932Z
LAST-MODIFIED:20240502T103631Z
UID:13740-1714829400-1714836600@wanganuiharrierclub.co.nz
SUMMARY:Feilding Moa's Banners Cross Country
DESCRIPTION:Here’s the info from Feilding Moa – \nhttps://feildingmoa.co.nz/event/banners-farm-cross-country/\n\nStart time: from 1:30pm (open handicap – means different start times) \nVenue: 65/129 Junction Rd\, Halcombe \nThe club van will be leaving from the clubrooms at 11:45am (plan to be out there at 12:45pm). Cost for transport in the van is $10 per person.
URL:https://wanganuiharrierclub.co.nz/event/feilding-moas-banners-cross-country/
CATEGORIES:Club Event
END:VEVENT
END:VCALENDAR