BEGIN:VCALENDAR
VERSION:2.0
PRODID:-//Wanganui Harriers - ECPv6.15.20//NONSGML v1.0//EN
CALSCALE:GREGORIAN
METHOD:PUBLISH
X-ORIGINAL-URL:https://wanganuiharrierclub.co.nz
X-WR-CALDESC:Events for Wanganui Harriers
REFRESH-INTERVAL;VALUE=DURATION:PT1H
X-Robots-Tag:noindex
X-PUBLISHED-TTL:PT1H
BEGIN:VTIMEZONE
TZID:Pacific/Auckland
BEGIN:STANDARD
TZOFFSETFROM:+1300
TZOFFSETTO:+1200
TZNAME:NZST
DTSTART:20230401T140000
END:STANDARD
BEGIN:DAYLIGHT
TZOFFSETFROM:+1200
TZOFFSETTO:+1300
TZNAME:NZDT
DTSTART:20230923T140000
END:DAYLIGHT
BEGIN:STANDARD
TZOFFSETFROM:+1300
TZOFFSETTO:+1200
TZNAME:NZST
DTSTART:20240406T140000
END:STANDARD
BEGIN:DAYLIGHT
TZOFFSETFROM:+1200
TZOFFSETTO:+1300
TZNAME:NZDT
DTSTART:20240928T140000
END:DAYLIGHT
BEGIN:STANDARD
TZOFFSETFROM:+1300
TZOFFSETTO:+1200
TZNAME:NZST
DTSTART:20250405T140000
END:STANDARD
BEGIN:DAYLIGHT
TZOFFSETFROM:+1200
TZOFFSETTO:+1300
TZNAME:NZDT
DTSTART:20250927T140000
END:DAYLIGHT
END:VTIMEZONE
BEGIN:VEVENT
DTSTART;TZID=Pacific/Auckland:20240511T130000
DTEND;TZID=Pacific/Auckland:20240511T150000
DTSTAMP:20260423T113329
CREATED:20240502T085631Z
LAST-MODIFIED:20240506T102357Z
UID:403-1715432400-1715439600@wanganuiharrierclub.co.nz
SUMMARY:Vaoga Cup
DESCRIPTION:Cross Country at Lundon Park\, park in the car park by Tennyson St. \nSealed Handicap. \nSM\, VM\, M20 6k Vaoga Cup\nSW\, VW\, W20\, W18 4k Geelorup Trophy\nM18\, 16 4k McCarquin Cup\nW16\, 14 3k Chilcott Trophy\nB14 3k Pointon Cup\nU12 2k Black Shield\nU9 1k McBeth Miniature Trophy\nWalkers 4k WHC Trophy – Men & Women \nCost: $2 U18\, $3 Adults – Spot prize draw at prize giving \n\n1pm – course set up finished and entries accepted\n1:30pm (approx) – 1km\, 3km runners + 4km walkers start\n1:40pm (approx) – 2km\, 4km and 6km runners start\n\n\nWHC members\, please bring a plate to share for afternoon tea. Open to anyone (WHC members and non-members). Bring along a friend.\n\nCheck out the course for AMW Centre Cross Country Champs\nPoints Day
URL:https://wanganuiharrierclub.co.nz/event/vaoga-cup/
LOCATION:Lundon Park
CATEGORIES:Club Event,Public Events
END:VEVENT
END:VCALENDAR