BEGIN:VCALENDAR
VERSION:2.0
PRODID:-//Wanganui Harriers - ECPv6.15.20//NONSGML v1.0//EN
CALSCALE:GREGORIAN
METHOD:PUBLISH
X-WR-CALNAME:Wanganui Harriers
X-ORIGINAL-URL:https://wanganuiharrierclub.co.nz
X-WR-CALDESC:Events for Wanganui Harriers
REFRESH-INTERVAL;VALUE=DURATION:PT1H
X-Robots-Tag:noindex
X-PUBLISHED-TTL:PT1H
BEGIN:VTIMEZONE
TZID:Pacific/Auckland
BEGIN:STANDARD
TZOFFSETFROM:+1300
TZOFFSETTO:+1200
TZNAME:NZST
DTSTART:20230401T140000
END:STANDARD
BEGIN:DAYLIGHT
TZOFFSETFROM:+1200
TZOFFSETTO:+1300
TZNAME:NZDT
DTSTART:20230923T140000
END:DAYLIGHT
BEGIN:STANDARD
TZOFFSETFROM:+1300
TZOFFSETTO:+1200
TZNAME:NZST
DTSTART:20240406T140000
END:STANDARD
BEGIN:DAYLIGHT
TZOFFSETFROM:+1200
TZOFFSETTO:+1300
TZNAME:NZDT
DTSTART:20240928T140000
END:DAYLIGHT
BEGIN:STANDARD
TZOFFSETFROM:+1300
TZOFFSETTO:+1200
TZNAME:NZST
DTSTART:20250405T140000
END:STANDARD
BEGIN:DAYLIGHT
TZOFFSETFROM:+1200
TZOFFSETTO:+1300
TZNAME:NZDT
DTSTART:20250927T140000
END:DAYLIGHT
END:VTIMEZONE
BEGIN:VEVENT
DTSTART;TZID=Pacific/Auckland:20240525T133000
DTEND;TZID=Pacific/Auckland:20240525T150000
DTSTAMP:20260423T113157
CREATED:20180406T004324Z
LAST-MODIFIED:20240523T021057Z
UID:407-1716643800-1716649200@wanganuiharrierclub.co.nz
SUMMARY:Johnston Memorial
DESCRIPTION:Bristol’s Farm\, Taylor Rd (off Tayforth Rd) Wanganui\, 1.30pm start\nOpen Handicap – Points Day \nSM\, VM\, M20 8k Johnston Memorial\nSW\, VW\, W20\, W18 6k Womens Challenge Shield\nM18 6k Stoneman Cup\nB16\, 14 4k Cheatley Shield\nG16\, 14 3k Shingles Cup\nU12 2k Bayler Cup\nU9 1k McBeth Trophy \nWalkers 6km Carter Family Trophies – Mean & Women \nAfternoon tea and presentation at clubrooms \n 
URL:https://wanganuiharrierclub.co.nz/event/johnston-memorial/
CATEGORIES:Club Event
END:VEVENT
END:VCALENDAR