BEGIN:VCALENDAR
VERSION:2.0
PRODID:-//Wanganui Harriers - ECPv6.15.20//NONSGML v1.0//EN
CALSCALE:GREGORIAN
METHOD:PUBLISH
X-WR-CALNAME:Wanganui Harriers
X-ORIGINAL-URL:https://wanganuiharrierclub.co.nz
X-WR-CALDESC:Events for Wanganui Harriers
REFRESH-INTERVAL;VALUE=DURATION:PT1H
X-Robots-Tag:noindex
X-PUBLISHED-TTL:PT1H
BEGIN:VTIMEZONE
TZID:Pacific/Auckland
BEGIN:STANDARD
TZOFFSETFROM:+1300
TZOFFSETTO:+1200
TZNAME:NZST
DTSTART:20230401T140000
END:STANDARD
BEGIN:DAYLIGHT
TZOFFSETFROM:+1200
TZOFFSETTO:+1300
TZNAME:NZDT
DTSTART:20230923T140000
END:DAYLIGHT
BEGIN:STANDARD
TZOFFSETFROM:+1300
TZOFFSETTO:+1200
TZNAME:NZST
DTSTART:20240406T140000
END:STANDARD
BEGIN:DAYLIGHT
TZOFFSETFROM:+1200
TZOFFSETTO:+1300
TZNAME:NZDT
DTSTART:20240928T140000
END:DAYLIGHT
BEGIN:STANDARD
TZOFFSETFROM:+1300
TZOFFSETTO:+1200
TZNAME:NZST
DTSTART:20250405T140000
END:STANDARD
BEGIN:DAYLIGHT
TZOFFSETFROM:+1200
TZOFFSETTO:+1300
TZNAME:NZDT
DTSTART:20250927T140000
END:DAYLIGHT
END:VTIMEZONE
BEGIN:VEVENT
DTSTART;TZID=Pacific/Auckland:20240914T133000
DTEND;TZID=Pacific/Auckland:20240914T160000
DTSTAMP:20260423T130426
CREATED:20180411T233310Z
LAST-MODIFIED:20240523T024950Z
UID:457-1726320600-1726329600@wanganuiharrierclub.co.nz
SUMMARY:Ken Thomas Challenge - Silver Ball
DESCRIPTION:Open Handicap\nPoints Day \nMoutoa Quay \nWalkers – 1:00pm \nRunners – 1:30pm \nTrophies for first runner and walker (handicapped) \nAfternoon tea at Clubrooms
URL:https://wanganuiharrierclub.co.nz/event/ken-thomas-challenge/
LOCATION:WHC Clubrooms\, Victoria Park\, Parsons Street\, Wanganui\, New Zealand
CATEGORIES:Club Event
END:VEVENT
BEGIN:VEVENT
DTSTART;TZID=Pacific/Auckland:20240921T130000
DTEND;TZID=Pacific/Auckland:20240921T153000
DTSTAMP:20260423T130426
CREATED:20180411T230501Z
LAST-MODIFIED:20240523T025108Z
UID:437-1726923600-1726932600@wanganuiharrierclub.co.nz
SUMMARY:Hopper Bros Shield Round the Bridges Relay
DESCRIPTION:Starting from Kowhai Park Registration at 1.00pm \nOpen Run Teams Hopper Bros Shield\nB14\, G14\, B12\, G12 & U9 Hopper/Sandlant Trophy\nWalkers 3 Person Teams Pointon Shield\nFastest Lap Seymour Hopper Shield \nAfternoon tea and presentations at Clubrooms
URL:https://wanganuiharrierclub.co.nz/event/hopper-bros-shield-round-the-bridges-relay/
CATEGORIES:Club Event
END:VEVENT
BEGIN:VEVENT
DTSTART;TZID=Pacific/Auckland:20241019T080000
DTEND;TZID=Pacific/Auckland:20241019T113000
DTSTAMP:20260423T130426
CREATED:20180411T233711Z
LAST-MODIFIED:20240919T081046Z
UID:459-1729324800-1729337400@wanganuiharrierclub.co.nz
SUMMARY:Gavin Collins Memorial Half Marathon\, 10k\, 5k
DESCRIPTION:Points Day \nStarting from Motorboat Clubrooms\, Anzac Parade\, Whanganui \nSealed Handicap\n8.00 am Walkers. 9.00am Runners \nMale Runners 21k Gavin Collins Memorial Cup or \nSM/VM 10k Whitlaw Cup\nFemale Runners 21k Wanganui Veterinary Services Cup or \nSW/VW 8k O’Connell Trophy\nWalkers 21k Don Collins Memorial Cup (Handicap) or \nMens Walk 8k Alastair McKenzie Trophy \nFemale Walk 8k Robyn McKenzie Trophy \nM20/18 9k Hoskyn Trophy \nW20/18 5k WHC Trophy\nG16\, G14 4k Longmead Chalice \nB16\,14 4k Bagley Cup\nU12 2k – Nimmo Cup\nU9 1k – Duncan McKenzie Trophy \nClub Prize giving and pot luck dinner\, venue TBA 6pm
URL:https://wanganuiharrierclub.co.nz/event/gavin-collins-memorial-half-marathon-10k-5k/
LOCATION:Multisport Clubrooms\, 143 Anzac Parade\, Whanganui\, 4500\, New Zealand
CATEGORIES:Club Event,Public Events
END:VEVENT
END:VCALENDAR