BEGIN:VCALENDAR
VERSION:2.0
PRODID:-//Wanganui Harriers - ECPv6.15.20//NONSGML v1.0//EN
CALSCALE:GREGORIAN
METHOD:PUBLISH
X-WR-CALNAME:Wanganui Harriers
X-ORIGINAL-URL:https://wanganuiharrierclub.co.nz
X-WR-CALDESC:Events for Wanganui Harriers
REFRESH-INTERVAL;VALUE=DURATION:PT1H
X-Robots-Tag:noindex
X-PUBLISHED-TTL:PT1H
BEGIN:VTIMEZONE
TZID:Pacific/Auckland
BEGIN:STANDARD
TZOFFSETFROM:+1300
TZOFFSETTO:+1200
TZNAME:NZST
DTSTART:20220402T140000
END:STANDARD
BEGIN:DAYLIGHT
TZOFFSETFROM:+1200
TZOFFSETTO:+1300
TZNAME:NZDT
DTSTART:20220924T140000
END:DAYLIGHT
BEGIN:STANDARD
TZOFFSETFROM:+1300
TZOFFSETTO:+1200
TZNAME:NZST
DTSTART:20230401T140000
END:STANDARD
BEGIN:DAYLIGHT
TZOFFSETFROM:+1200
TZOFFSETTO:+1300
TZNAME:NZDT
DTSTART:20230923T140000
END:DAYLIGHT
BEGIN:STANDARD
TZOFFSETFROM:+1300
TZOFFSETTO:+1200
TZNAME:NZST
DTSTART:20240406T140000
END:STANDARD
BEGIN:DAYLIGHT
TZOFFSETFROM:+1200
TZOFFSETTO:+1300
TZNAME:NZDT
DTSTART:20240928T140000
END:DAYLIGHT
END:VTIMEZONE
BEGIN:VEVENT
DTSTART;TZID=Pacific/Auckland:20230416T073000
DTEND;TZID=Pacific/Auckland:20230416T120000
DTSTAMP:20260424T043816
CREATED:20180128T090929Z
LAST-MODIFIED:20230413T204031Z
UID:384-1681630200-1681646400@wanganuiharrierclub.co.nz
SUMMARY:Brine to Wine 2023
DESCRIPTION:12km walk and run event from Gilberd Street (Sailing Wanganui) to Silver Ball Sculpture (Moutoa Quay) \nStart: Wanganui Sailing Club\,Gilberd Street\, Castlecliff \nFinish:  Silver Ball Sculpture Moutoa Quay\, Whanganui River Walkway \nSpot Prizes and Nibbles + a drink (free for competitors) at prizegiving \nSTART TIMES \n8:30am – Solo walkers\, Walk teams\, Walk/Run (composite) teams (Registration from 8:00am) \n9:15am – Solo runners\, Run teams \nTEAMS \n\nConsist of 2 or 4 persons\nWalkers\, runners\, or a mix\n\nRELAY CHANGE POINTS \n\nRiverbank Walkway before Cobham Bridge\nSomme Parade opposite Riverside Motel\nSomme Parade on the upriver corner of Dublin Street Bridge\n\nAll Changeovers are marked. \nENTRY FEES \n\n$15 for individuals\n$10 for U18’s\n\n\nPRIZE GIVING approx 11:00am at Stella Restaurant & Bar \n 
URL:https://wanganuiharrierclub.co.nz/event/brine-to-wine-2021/
LOCATION:Gilberd Street\, Gilberd Street\, Wanganui\, 4501\, New Zealand
CATEGORIES:Public Events
END:VEVENT
END:VCALENDAR