BEGIN:VCALENDAR
VERSION:2.0
PRODID:-//Wanganui Harriers - ECPv6.15.20//NONSGML v1.0//EN
CALSCALE:GREGORIAN
METHOD:PUBLISH
X-ORIGINAL-URL:https://wanganuiharrierclub.co.nz
X-WR-CALDESC:Events for Wanganui Harriers
REFRESH-INTERVAL;VALUE=DURATION:PT1H
X-Robots-Tag:noindex
X-PUBLISHED-TTL:PT1H
BEGIN:VTIMEZONE
TZID:Pacific/Auckland
BEGIN:STANDARD
TZOFFSETFROM:+1300
TZOFFSETTO:+1200
TZNAME:NZST
DTSTART:20160402T140000
END:STANDARD
BEGIN:DAYLIGHT
TZOFFSETFROM:+1200
TZOFFSETTO:+1300
TZNAME:NZDT
DTSTART:20160924T140000
END:DAYLIGHT
BEGIN:STANDARD
TZOFFSETFROM:+1300
TZOFFSETTO:+1200
TZNAME:NZST
DTSTART:20170401T140000
END:STANDARD
BEGIN:DAYLIGHT
TZOFFSETFROM:+1200
TZOFFSETTO:+1300
TZNAME:NZDT
DTSTART:20170923T140000
END:DAYLIGHT
BEGIN:STANDARD
TZOFFSETFROM:+1300
TZOFFSETTO:+1200
TZNAME:NZST
DTSTART:20180331T140000
END:STANDARD
BEGIN:DAYLIGHT
TZOFFSETFROM:+1200
TZOFFSETTO:+1300
TZNAME:NZDT
DTSTART:20180929T140000
END:DAYLIGHT
BEGIN:STANDARD
TZOFFSETFROM:+1300
TZOFFSETTO:+1200
TZNAME:NZST
DTSTART:20190406T140000
END:STANDARD
BEGIN:DAYLIGHT
TZOFFSETFROM:+1200
TZOFFSETTO:+1300
TZNAME:NZDT
DTSTART:20190928T140000
END:DAYLIGHT
BEGIN:STANDARD
TZOFFSETFROM:+1300
TZOFFSETTO:+1200
TZNAME:NZST
DTSTART:20200404T140000
END:STANDARD
BEGIN:DAYLIGHT
TZOFFSETFROM:+1200
TZOFFSETTO:+1300
TZNAME:NZDT
DTSTART:20200926T140000
END:DAYLIGHT
BEGIN:STANDARD
TZOFFSETFROM:+1300
TZOFFSETTO:+1200
TZNAME:NZST
DTSTART:20210403T140000
END:STANDARD
BEGIN:DAYLIGHT
TZOFFSETFROM:+1200
TZOFFSETTO:+1300
TZNAME:NZDT
DTSTART:20210925T140000
END:DAYLIGHT
BEGIN:STANDARD
TZOFFSETFROM:+1300
TZOFFSETTO:+1200
TZNAME:NZST
DTSTART:20220402T140000
END:STANDARD
BEGIN:DAYLIGHT
TZOFFSETFROM:+1200
TZOFFSETTO:+1300
TZNAME:NZDT
DTSTART:20220924T140000
END:DAYLIGHT
BEGIN:STANDARD
TZOFFSETFROM:+1300
TZOFFSETTO:+1200
TZNAME:NZST
DTSTART:20230401T140000
END:STANDARD
BEGIN:DAYLIGHT
TZOFFSETFROM:+1200
TZOFFSETTO:+1300
TZNAME:NZDT
DTSTART:20230923T140000
END:DAYLIGHT
END:VTIMEZONE
BEGIN:VEVENT
DTSTART;TZID=Pacific/Auckland:20220702T133000
DTEND;TZID=Pacific/Auckland:20220702T153000
DTSTAMP:20260422T021732
CREATED:20180406T005411Z
LAST-MODIFIED:20220406T203114Z
UID:421-1656768600-1656775800@wanganuiharrierclub.co.nz
SUMMARY:Training Club Runs & Walks also North Island XC Champs - Taupo
DESCRIPTION:2\, 5\, or 10km Training Runs and Walks 1:30pm from the Clubrooms. \nEach run or walk will have a group leader. \nAfternoon Tea at the Clubrooms. \nClub Trip to Taupo\, Some costs will be subsidised by the Club. More details to come \n 
URL:https://wanganuiharrierclub.co.nz/event/north-island-xc-champs-taupo/
CATEGORIES:Public Events
END:VEVENT
BEGIN:VEVENT
DTSTART;TZID=Pacific/Auckland:20220611T133000
DTEND;TZID=Pacific/Auckland:20220611T153000
DTSTAMP:20260422T021732
CREATED:20180406T004728Z
LAST-MODIFIED:20230318T053531Z
UID:413-1654954200-1654961400@wanganuiharrierclub.co.nz
SUMMARY:Training Club Runs & Walks\, also Dorne Cup Upper Hutt
DESCRIPTION:2\, 5\, or 10km Training Runs and Walks 1:30pm from the Clubrooms. \nEach run or walk will have a group leader. \nAfternoon Tea at the Clubrooms. \nDorne Cup\, Upper Hutt Cross Country Event
URL:https://wanganuiharrierclub.co.nz/event/dorne-cup-away-trip/
CATEGORIES:Public Events
END:VEVENT
BEGIN:VEVENT
DTSTART;TZID=Pacific/Auckland:20200718T123000
DTEND;TZID=Pacific/Auckland:20200718T153000
DTSTAMP:20260422T021732
CREATED:20180406T005520Z
LAST-MODIFIED:20200717T085012Z
UID:423-1595075400-1595086200@wanganuiharrierclub.co.nz
SUMMARY:WHC Club XC Champs & AMW Centre XC Champs
DESCRIPTION:This week we host clubs from the Manawatu/Whanganui Centre for our annual XC Champs out at Bason Reserve. All club members may compete\, with our Club XC Trophies on offer\, but please note\, you must have competed in at least two club events prior to Saturday to be eligible for the Club trophies. \nTo be eligible for a MW Centre title you must be a Competitive Athletics NZ Member and wear the WHC singlet/t-shirt and black shorts. \nPlease note the earlier start time of 12:30pm for Walkers and Children. \nPlease bring a plate for afternoon tea\, back at the clubrooms at 3:30pm. \nSee attached flyer for event information. WHC covers members’ race entry fees. \nAMW Centre XC Champs 2020
URL:https://wanganuiharrierclub.co.nz/event/centre-xc-champs/
LOCATION:Bason Reserve\, 552 Rapanui Road\, Whanganui\, New Zealand
CATEGORIES:Club Event,Public Events
END:VEVENT
BEGIN:VEVENT
DTSTART;TZID=Pacific/Auckland:20190425T120000
DTEND;TZID=Pacific/Auckland:20190425T160000
DTSTAMP:20260422T021732
CREATED:20180416T062423Z
LAST-MODIFIED:20181128T230724Z
UID:467-1556193600-1556208000@wanganuiharrierclub.co.nz
SUMMARY:ANZAC Day Relays
DESCRIPTION:Event details to come.
URL:https://wanganuiharrierclub.co.nz/event/anzac-day-relays/
LOCATION:WHC Clubrooms\, Victoria Park\, Parsons Street\, Wanganui\, New Zealand
CATEGORIES:Public Events
END:VEVENT
BEGIN:VEVENT
DTSTART;TZID=Pacific/Auckland:20190330T133000
DTEND;TZID=Pacific/Auckland:20190330T153000
DTSTAMP:20260422T021732
CREATED:20170330T123014Z
LAST-MODIFIED:20181128T230602Z
UID:155-1553952600-1553959800@wanganuiharrierclub.co.nz
SUMMARY:WHC Open Day
DESCRIPTION:We welcome all current and future members to attend our Open Day. \nThe new season’s syllabus and registration forms will be available. \nThe afternoon will consist of social run/walk and afternoon tea. Please bring a plate to share.
URL:https://wanganuiharrierclub.co.nz/event/whc-open-day/
LOCATION:WHC Clubrooms\, Victoria Park\, Parsons Street\, Wanganui\, New Zealand
CATEGORIES:Public Events
END:VEVENT
BEGIN:VEVENT
DTSTART;TZID=Pacific/Auckland:20190321T173000
DTEND;TZID=Pacific/Auckland:20190321T193000
DTSTAMP:20260422T021732
CREATED:20180118T084524Z
LAST-MODIFIED:20181128T225723Z
UID:382-1553189400-1553196600@wanganuiharrierclub.co.nz
SUMMARY:Kowhai Park Runs (Race 6)
DESCRIPTION:6 week series starting 14th Feb (then 21/2\, 28/2\, 7/3\, 14/3\, 21/3)\n1\, 3 & 5km races \nStart Times:\nWalkers start 5:30\, Children’s 1km 5:45\, Runners 3 & 5km 6:00 \nCost:\n3 & 5km races $3 per race\, or $15 for the series (all 6 races)\nChildren’s 1km $1 per race\, or $5 for the series (all 6 races)\n \nCome and buy a sausage and see if you’ve won a spot prize in the Pumpkin after the race.
URL:https://wanganuiharrierclub.co.nz/event/kpr-race-6/
LOCATION:Kowhai Park\, Anzac Parade\, Wanganui\, New Zealand
CATEGORIES:Public Events
END:VEVENT
BEGIN:VEVENT
DTSTART;TZID=Pacific/Auckland:20190314T173000
DTEND;TZID=Pacific/Auckland:20190314T193000
DTSTAMP:20260422T021732
CREATED:20180118T084401Z
LAST-MODIFIED:20181128T225655Z
UID:380-1552584600-1552591800@wanganuiharrierclub.co.nz
SUMMARY:Kowhai Park Runs (Race 5)
DESCRIPTION:6 week series starting 14th Feb (then 21/2\, 28/2\, 7/3\, 14/3\, 21/3)\n1\, 3 & 5km races \nStart Times:\nWalkers start 5:30\, Children’s 1km 5:45\, Runners 3 & 5km 6:00 \nCost:\n3 & 5km races $3 per race\, or $15 for the series (all 6 races)\nChildren’s 1km $1 per race\, or $5 for the series (all 6 races)\n \nCome and buy a sausage and see if you’ve won a spot prize in the Pumpkin after the race.
URL:https://wanganuiharrierclub.co.nz/event/kpr-race-5/
LOCATION:Kowhai Park\, Anzac Parade\, Wanganui\, New Zealand
CATEGORIES:Public Events
END:VEVENT
BEGIN:VEVENT
DTSTART;TZID=Pacific/Auckland:20190307T173000
DTEND;TZID=Pacific/Auckland:20190307T193000
DTSTAMP:20260422T021732
CREATED:20180118T084245Z
LAST-MODIFIED:20181128T225820Z
UID:378-1551979800-1551987000@wanganuiharrierclub.co.nz
SUMMARY:Kowhai Park Runs (Race 4)
DESCRIPTION:6 week series starting 14th Feb (then 21/2\, 28/2\, 7/3\, 14/3\, 21/3)\n1\, 3 & 5km races \nStart Times:\nWalkers start 5:30\, Children’s 1km 5:45\, Runners 3 & 5km 6:00 \nCost:\n3 & 5km races $3 per race\, or $15 for the series (all 6 races)\nChildren’s 1km $1 per race\, or $5 for the series (all 6 races)\n \nCome and buy a sausage and see if you’ve won a spot prize in the Pumpkin after the race.
URL:https://wanganuiharrierclub.co.nz/event/kpr-race-4/
LOCATION:Kowhai Park\, Anzac Parade\, Wanganui\, New Zealand
CATEGORIES:Public Events
END:VEVENT
BEGIN:VEVENT
DTSTART;TZID=Pacific/Auckland:20190228T173000
DTEND;TZID=Pacific/Auckland:20190228T193000
DTSTAMP:20260422T021732
CREATED:20180118T083915Z
LAST-MODIFIED:20181128T225909Z
UID:374-1551375000-1551382200@wanganuiharrierclub.co.nz
SUMMARY:Kowhai Park Runs (Race 3)
DESCRIPTION:6 week series starting 14th Feb (then 21/2\, 28/2\, 7/3\, 14/3\, 21/3)\n1\, 3 & 5km races \nStart Times:\nWalkers start 5:30\, Children’s 1km 5:45\, Runners 3 & 5km 6:00 \nCost:\n3 & 5km races $3 per race\, or $15 for the series (all 6 races)\nChildren’s 1km $1 per race\, or $5 for the series (all 6 races)\n \nCome and buy a sausage and see if you’ve won a spot prize in the Pumpkin after the race.
URL:https://wanganuiharrierclub.co.nz/event/kpr-race-3/
LOCATION:Kowhai Park\, Anzac Parade\, Wanganui\, New Zealand
CATEGORIES:Public Events
END:VEVENT
BEGIN:VEVENT
DTSTART;TZID=Pacific/Auckland:20190221T173000
DTEND;TZID=Pacific/Auckland:20190221T193000
DTSTAMP:20260422T021732
CREATED:20180118T083740Z
LAST-MODIFIED:20181128T230144Z
UID:371-1550770200-1550777400@wanganuiharrierclub.co.nz
SUMMARY:Kowhai Park Runs (Race 2)
DESCRIPTION:6 week series starting 14th Feb (then 21/2\, 28/2\, 7/3\, 14/3\, 21/3)\n1\, 3 & 5km races \nStart Times:\nWalkers start 5:30\, Children’s 1km 5:45\, Runners 3 & 5km 6:00 \nCost:\n3 & 5km races $3 per race\, or $15 for the series (all 6 races)\nChildren’s 1km $1 per race\, or $5 for the series (all 6 races)\n \nCome and buy a sausage and see if you’ve won a spot prize in the Pumpkin after the race.
URL:https://wanganuiharrierclub.co.nz/event/kpr-race-2/
LOCATION:Kowhai Park\, Anzac Parade\, Wanganui\, New Zealand
CATEGORIES:Public Events
END:VEVENT
BEGIN:VEVENT
DTSTART;TZID=Pacific/Auckland:20190214T173000
DTEND;TZID=Pacific/Auckland:20190214T193000
DTSTAMP:20260422T021732
CREATED:20180118T083600Z
LAST-MODIFIED:20181128T230126Z
UID:368-1550165400-1550172600@wanganuiharrierclub.co.nz
SUMMARY:Kowhai Park Runs (Race 1)
DESCRIPTION:6 week series starting 14th Feb (then 21/2\, 28/2\, 7/3\, 14/3\, 21/3)\n1\, 3 & 5km races \nStart Times:\nWalkers start 5:30\, Children’s 1km 5:45\, Runners 3 & 5km 6:00 \nCost:\n3 & 5km races $3 per race\, or $15 for the series (all 6 races)\nChildren’s 1km $1 per race\, or $5 for the series (all 6 races)\n \nCome and buy a sausage and see if you’ve won a spot prize in the Pumpkin after the race.
URL:https://wanganuiharrierclub.co.nz/event/kpr-race-1/
LOCATION:Kowhai Park\, Anzac Parade\, Wanganui\, New Zealand
CATEGORIES:Public Events
END:VEVENT
BEGIN:VEVENT
DTSTART;TZID=Pacific/Auckland:20180414T133000
DTEND;TZID=Pacific/Auckland:20180414T150000
DTSTAMP:20260422T021732
CREATED:20180406T003259Z
LAST-MODIFIED:20180406T003259Z
UID:397-1523712600-1523718000@wanganuiharrierclub.co.nz
SUMMARY:5km Scratch Race
DESCRIPTION:Runs around Victoria Park \nPlease bring a plate for afternoon tea
URL:https://wanganuiharrierclub.co.nz/event/5km-scratch-race/
LOCATION:WHC Clubrooms\, Victoria Park\, Parsons Street\, Wanganui\, New Zealand
CATEGORIES:Public Events
END:VEVENT
BEGIN:VEVENT
DTSTART;TZID=Pacific/Auckland:20171109T193000
DTEND;TZID=Pacific/Auckland:20171109T210000
DTSTAMP:20260422T021732
CREATED:20171008T205453Z
LAST-MODIFIED:20171018T221037Z
UID:58-1510255800-1510261200@wanganuiharrierclub.co.nz
SUMMARY:WHC AGM
DESCRIPTION:We invite all members to attend our AGM to have their  say in matters affecting the club next season.
URL:https://wanganuiharrierclub.co.nz/event/agm/
LOCATION:WHC Clubrooms\, Victoria Park\, Parsons Street\, Wanganui\, New Zealand
CATEGORIES:Meetings,Public Events
END:VEVENT
END:VCALENDAR