BEGIN:VCALENDAR
VERSION:2.0
PRODID:-//Wanganui Harriers - ECPv6.15.20//NONSGML v1.0//EN
CALSCALE:GREGORIAN
METHOD:PUBLISH
X-WR-CALNAME:Wanganui Harriers
X-ORIGINAL-URL:https://wanganuiharrierclub.co.nz
X-WR-CALDESC:Events for Wanganui Harriers
REFRESH-INTERVAL;VALUE=DURATION:PT1H
X-Robots-Tag:noindex
X-PUBLISHED-TTL:PT1H
BEGIN:VTIMEZONE
TZID:Pacific/Auckland
BEGIN:STANDARD
TZOFFSETFROM:+1300
TZOFFSETTO:+1200
TZNAME:NZST
DTSTART:20210403T140000
END:STANDARD
BEGIN:DAYLIGHT
TZOFFSETFROM:+1200
TZOFFSETTO:+1300
TZNAME:NZDT
DTSTART:20210925T140000
END:DAYLIGHT
BEGIN:STANDARD
TZOFFSETFROM:+1300
TZOFFSETTO:+1200
TZNAME:NZST
DTSTART:20220402T140000
END:STANDARD
BEGIN:DAYLIGHT
TZOFFSETFROM:+1200
TZOFFSETTO:+1300
TZNAME:NZDT
DTSTART:20220924T140000
END:DAYLIGHT
BEGIN:STANDARD
TZOFFSETFROM:+1300
TZOFFSETTO:+1200
TZNAME:NZST
DTSTART:20230401T140000
END:STANDARD
BEGIN:DAYLIGHT
TZOFFSETFROM:+1200
TZOFFSETTO:+1300
TZNAME:NZDT
DTSTART:20230923T140000
END:DAYLIGHT
END:VTIMEZONE
BEGIN:VTIMEZONE
TZID:Europe/London
BEGIN:DAYLIGHT
TZOFFSETFROM:+0000
TZOFFSETTO:+0100
TZNAME:BST
DTSTART:20210328T010000
END:DAYLIGHT
BEGIN:STANDARD
TZOFFSETFROM:+0100
TZOFFSETTO:+0000
TZNAME:GMT
DTSTART:20211031T010000
END:STANDARD
BEGIN:DAYLIGHT
TZOFFSETFROM:+0000
TZOFFSETTO:+0100
TZNAME:BST
DTSTART:20220327T010000
END:DAYLIGHT
BEGIN:STANDARD
TZOFFSETFROM:+0100
TZOFFSETTO:+0000
TZNAME:GMT
DTSTART:20221030T010000
END:STANDARD
BEGIN:DAYLIGHT
TZOFFSETFROM:+0000
TZOFFSETTO:+0100
TZNAME:BST
DTSTART:20230326T010000
END:DAYLIGHT
BEGIN:STANDARD
TZOFFSETFROM:+0100
TZOFFSETTO:+0000
TZNAME:GMT
DTSTART:20231029T010000
END:STANDARD
END:VTIMEZONE
BEGIN:VEVENT
DTSTART;TZID=Pacific/Auckland:20220409T133000
DTEND;TZID=Pacific/Auckland:20220409T150000
DTSTAMP:20260421T072730
CREATED:20180406T003415Z
LAST-MODIFIED:20220406T202009Z
UID:399-1649511000-1649516400@wanganuiharrierclub.co.nz
SUMMARY:Training Club Runs & Walks
DESCRIPTION:2\, 5\, or 10km Training Runs and Walks 1:30pm from the Clubrooms. \nEach run or walk will have a group leader. \nAfternoon Tea at the Clubrooms.
URL:https://wanganuiharrierclub.co.nz/event/farm-run/
LOCATION:Manawatu-Whanganui
CATEGORIES:Club Event
END:VEVENT
BEGIN:VEVENT
DTSTART;TZID=Europe/London:20220416T080000
DTEND;TZID=Europe/London:20220416T170000
DTSTAMP:20260421T072730
CREATED:20220323T223701Z
LAST-MODIFIED:20220323T223701Z
UID:4975-1650096000-1650128400@wanganuiharrierclub.co.nz
SUMMARY:Free No Event Day
DESCRIPTION:No event organised today as its Easter.
URL:https://wanganuiharrierclub.co.nz/event/free-no-event-day/
LOCATION:Manawatu-Whanganui
END:VEVENT
BEGIN:VEVENT
DTSTART;TZID=Pacific/Auckland:20220430T133000
DTEND;TZID=Pacific/Auckland:20220430T150000
DTSTAMP:20260421T072730
CREATED:20180406T004423Z
LAST-MODIFIED:20220406T200305Z
UID:409-1651325400-1651330800@wanganuiharrierclub.co.nz
SUMMARY:Club Run @ South Beach
DESCRIPTION:1:30pm start – meet at South Beach off Wikitoria Road. \n 
URL:https://wanganuiharrierclub.co.nz/event/club-run-south-beach/
LOCATION:South Beach
CATEGORIES:Club Event
END:VEVENT
END:VCALENDAR