BEGIN:VCALENDAR
VERSION:2.0
PRODID:-//Wanganui Harriers - ECPv6.15.20//NONSGML v1.0//EN
CALSCALE:GREGORIAN
METHOD:PUBLISH
X-WR-CALNAME:Wanganui Harriers
X-ORIGINAL-URL:https://wanganuiharrierclub.co.nz
X-WR-CALDESC:Events for Wanganui Harriers
REFRESH-INTERVAL;VALUE=DURATION:PT1H
X-Robots-Tag:noindex
X-PUBLISHED-TTL:PT1H
BEGIN:VTIMEZONE
TZID:Pacific/Auckland
BEGIN:STANDARD
TZOFFSETFROM:+1300
TZOFFSETTO:+1200
TZNAME:NZST
DTSTART:20210403T140000
END:STANDARD
BEGIN:DAYLIGHT
TZOFFSETFROM:+1200
TZOFFSETTO:+1300
TZNAME:NZDT
DTSTART:20210925T140000
END:DAYLIGHT
BEGIN:STANDARD
TZOFFSETFROM:+1300
TZOFFSETTO:+1200
TZNAME:NZST
DTSTART:20220402T140000
END:STANDARD
BEGIN:DAYLIGHT
TZOFFSETFROM:+1200
TZOFFSETTO:+1300
TZNAME:NZDT
DTSTART:20220924T140000
END:DAYLIGHT
BEGIN:STANDARD
TZOFFSETFROM:+1300
TZOFFSETTO:+1200
TZNAME:NZST
DTSTART:20230401T140000
END:STANDARD
BEGIN:DAYLIGHT
TZOFFSETFROM:+1200
TZOFFSETTO:+1300
TZNAME:NZDT
DTSTART:20230923T140000
END:DAYLIGHT
END:VTIMEZONE
BEGIN:VTIMEZONE
TZID:Europe/London
BEGIN:DAYLIGHT
TZOFFSETFROM:+0000
TZOFFSETTO:+0100
TZNAME:BST
DTSTART:20210328T010000
END:DAYLIGHT
BEGIN:STANDARD
TZOFFSETFROM:+0100
TZOFFSETTO:+0000
TZNAME:GMT
DTSTART:20211031T010000
END:STANDARD
BEGIN:DAYLIGHT
TZOFFSETFROM:+0000
TZOFFSETTO:+0100
TZNAME:BST
DTSTART:20220327T010000
END:DAYLIGHT
BEGIN:STANDARD
TZOFFSETFROM:+0100
TZOFFSETTO:+0000
TZNAME:GMT
DTSTART:20221030T010000
END:STANDARD
BEGIN:DAYLIGHT
TZOFFSETFROM:+0000
TZOFFSETTO:+0100
TZNAME:BST
DTSTART:20230326T010000
END:DAYLIGHT
BEGIN:STANDARD
TZOFFSETFROM:+0100
TZOFFSETTO:+0000
TZNAME:GMT
DTSTART:20231029T010000
END:STANDARD
END:VTIMEZONE
BEGIN:VEVENT
DTSTART;TZID=Pacific/Auckland:20220702T133000
DTEND;TZID=Pacific/Auckland:20220702T153000
DTSTAMP:20260421T015347
CREATED:20180406T005411Z
LAST-MODIFIED:20220406T203114Z
UID:421-1656768600-1656775800@wanganuiharrierclub.co.nz
SUMMARY:Training Club Runs & Walks also North Island XC Champs - Taupo
DESCRIPTION:2\, 5\, or 10km Training Runs and Walks 1:30pm from the Clubrooms. \nEach run or walk will have a group leader. \nAfternoon Tea at the Clubrooms. \nClub Trip to Taupo\, Some costs will be subsidised by the Club. More details to come \n 
URL:https://wanganuiharrierclub.co.nz/event/north-island-xc-champs-taupo/
LOCATION:Manawatu-Whanganui
CATEGORIES:Public Events
END:VEVENT
BEGIN:VEVENT
DTSTART;TZID=Europe/London:20220730T133000
DTEND;TZID=Europe/London:20220730T150000
DTSTAMP:20260421T015347
CREATED:20220406T202804Z
LAST-MODIFIED:20220406T202804Z
UID:5181-1659187800-1659193200@wanganuiharrierclub.co.nz
SUMMARY:Park Run From Steel Ball also NZ XC Champs
DESCRIPTION:Run or Walk the Park Run in Reverse\, meet at the Steel Ball on Taupo Quay at 1:30pm \nClub will provide refreshments (Takeaway coffee etc) from Mud Ducks Cafe if you turn up and participate. \nNZ Cross Country Champs – Taupo
URL:https://wanganuiharrierclub.co.nz/event/park-run-from-steel-ball-also-nz-xc-champs/
LOCATION:Manawatu-Whanganui
END:VEVENT
END:VCALENDAR