BEGIN:VCALENDAR
VERSION:2.0
PRODID:-//Wanganui Harriers - ECPv6.15.20//NONSGML v1.0//EN
CALSCALE:GREGORIAN
METHOD:PUBLISH
X-WR-CALNAME:Wanganui Harriers
X-ORIGINAL-URL:https://wanganuiharrierclub.co.nz
X-WR-CALDESC:Events for Wanganui Harriers
REFRESH-INTERVAL;VALUE=DURATION:PT1H
X-Robots-Tag:noindex
X-PUBLISHED-TTL:PT1H
BEGIN:VTIMEZONE
TZID:Pacific/Auckland
BEGIN:STANDARD
TZOFFSETFROM:+1300
TZOFFSETTO:+1200
TZNAME:NZST
DTSTART:20230401T140000
END:STANDARD
BEGIN:DAYLIGHT
TZOFFSETFROM:+1200
TZOFFSETTO:+1300
TZNAME:NZDT
DTSTART:20230923T140000
END:DAYLIGHT
BEGIN:STANDARD
TZOFFSETFROM:+1300
TZOFFSETTO:+1200
TZNAME:NZST
DTSTART:20240406T140000
END:STANDARD
BEGIN:DAYLIGHT
TZOFFSETFROM:+1200
TZOFFSETTO:+1300
TZNAME:NZDT
DTSTART:20240928T140000
END:DAYLIGHT
BEGIN:STANDARD
TZOFFSETFROM:+1300
TZOFFSETTO:+1200
TZNAME:NZST
DTSTART:20250405T140000
END:STANDARD
BEGIN:DAYLIGHT
TZOFFSETFROM:+1200
TZOFFSETTO:+1300
TZNAME:NZDT
DTSTART:20250927T140000
END:DAYLIGHT
END:VTIMEZONE
BEGIN:VTIMEZONE
TZID:Europe/London
BEGIN:DAYLIGHT
TZOFFSETFROM:+0000
TZOFFSETTO:+0100
TZNAME:BST
DTSTART:20210328T010000
END:DAYLIGHT
BEGIN:STANDARD
TZOFFSETFROM:+0100
TZOFFSETTO:+0000
TZNAME:GMT
DTSTART:20211031T010000
END:STANDARD
BEGIN:DAYLIGHT
TZOFFSETFROM:+0000
TZOFFSETTO:+0100
TZNAME:BST
DTSTART:20220327T010000
END:DAYLIGHT
BEGIN:STANDARD
TZOFFSETFROM:+0100
TZOFFSETTO:+0000
TZNAME:GMT
DTSTART:20221030T010000
END:STANDARD
BEGIN:DAYLIGHT
TZOFFSETFROM:+0000
TZOFFSETTO:+0100
TZNAME:BST
DTSTART:20230326T010000
END:DAYLIGHT
BEGIN:STANDARD
TZOFFSETFROM:+0100
TZOFFSETTO:+0000
TZNAME:GMT
DTSTART:20231029T010000
END:STANDARD
END:VTIMEZONE
BEGIN:VEVENT
DTSTART;VALUE=DATE:20240928
DTEND;VALUE=DATE:20241001
DTSTAMP:20260420T204110
CREATED:20200603T222925Z
LAST-MODIFIED:20240523T025153Z
UID:1177-1727481600-1727740799@wanganuiharrierclub.co.nz
SUMMARY:NZ Road Relays
DESCRIPTION:Away trip to Taupo. More details to come
URL:https://wanganuiharrierclub.co.nz/event/virginia-lake-relay/
LOCATION:Manawatu-Whanganui
CATEGORIES:Public Events
END:VEVENT
BEGIN:VEVENT
DTSTART;TZID=Europe/London:20221008T133000
DTEND;TZID=Europe/London:20221008T153000
DTSTAMP:20260420T204110
CREATED:20220406T204325Z
LAST-MODIFIED:20220406T204325Z
UID:5197-1665235800-1665243000@wanganuiharrierclub.co.nz
SUMMARY:Training Club Runs & Walks
DESCRIPTION:2\, 5\, or 10km Training Runs and Walks 1:30pm from the Clubrooms. \nEach run or walk will have a group leader. \nAfternoon Tea at the Clubrooms.
URL:https://wanganuiharrierclub.co.nz/event/training-club-runs-walks/
LOCATION:Manawatu-Whanganui
END:VEVENT
END:VCALENDAR